BEGIN:VCALENDAR
PRODID:NingEventWidget-v1
VERSION:2.0
METHOD:PUBLISH
BEGIN:VEVENT
UID:2323372:Event:41819
DTSTAMP:20260421T060633Z
SUMMARY:Open Garden Squares Weekend 14/15th June
DESCRIPTION:Open Garden Squares Weekend is next weekend. On Saturday a
 nd Sunday 14th/15th June you can feed your curiosity with over 200 gar
 dens to explore. http://www.opensquares.org \nTickets are £10 in adv
 ance and you can buy them at the City Information Kiosk in St. Paul's 
 Churchyard - as well as on line - and pick up the comprehensive guideb
 ook. There are also still some places on the Guided Walks in the City.
  See the website for information and booking. Walks are included in th
 e ticket price. \nIn the City the gardens will be open as usual - but
  there are some fun activities on both Saturday and Sunday. \nThere w
 ill be a Plant stall in Postman's Park with lots of fabulous bedding p
 lants. Take your pick for free in return for a small donation to Frien
 ds of City Gardens. \nThere will also be a pop up café in Postman's 
 Park - Saturday from 11.30 am to 3.30 pm - with home-made cakes. \nAn
 d for families there will be a terrific Treasure Hunt in Bunhill Field
 s. Just turn up to the gardeners' hut and pick up the first clue… \
 nFann Street wildlife garden will also be open to the public.\n\nFor m
 ore information visit http://goldenlaneestate.org/events/open-garden-s
 quares-weekend-14-15th-june
DTSTART:20140613T230000Z
DTEND:20140615T225900Z
CATEGORIES:open, gardens
LOCATION:Gardens across London
WEBSITE:
URL:
CONTACT:
ORGANIZER;CN="Sarah Hudson":http://goldenlaneestate.org/profile/SarahH
 udson
ATTACH;FMTTYPE="image/jpeg":
ATTENDEE;ROLE=REQ-PARTICIPANT;PARTSTAT=ACCEPTED;RSVP=TRUE;CN="Sarah Hu
 dson":http://goldenlaneestate.org/profile/SarahHudson
END:VEVENT
END:VCALENDAR
