BEGIN:VCALENDAR
PRODID:NingEventWidget-v1
VERSION:2.0
METHOD:PUBLISH
BEGIN:VEVENT
UID:2323372:Event:18104
DTSTAMP:20260422T011320Z
SUMMARY:Our Common Place Direction Setting Meeting
DESCRIPTION:This meeting is to decide what Golden Lane residents wou
 ld like to do with a City of London funded project to help residents 
 create the kind of environment you want to live in. There's a discuss
 ion on the Golden Lane Social Network with all the details, including
  all the suggestions we've received so far for things residents woul
 d like to see happen. We'll be discussing these and any more that come
  up on the day before deciding which we'll put our collective energie
 s into. As it's dinner time, i'll bring some things to keep hunger an
 d thirst at bay. So come along and have your say about how you would 
 like to improve Golden Lane! \n\nFor more information visit http://go
 ldenlaneestate.org/events/our-common-place-direction
DTSTART:20110712T183000Z
DTEND:20110712T200000Z
CATEGORIES:community, meeting
LOCATION:Community Hall
WEBSITE:
URL:
CONTACT:07810 747 193
ORGANIZER;CN="Jonny Hazell":http://goldenlaneestate.org/profile/JonnyH
 azell
ATTACH;FMTTYPE="image/jpeg":http://storage.ning.com/topology/rest/1.0/
 file/get/2571569548?profile=original
ATTENDEE;ROLE=REQ-PARTICIPANT;PARTSTAT=ACCEPTED;RSVP=TRUE;CN="Maria El
 izabeth Prior":http://goldenlaneestate.org/profile/MariaElizabethPrior
ATTENDEE;ROLE=REQ-PARTICIPANT;PARTSTAT=ACCEPTED;RSVP=TRUE;CN="patsy co
 x":http://goldenlaneestate.org/profile/patsycox
ATTENDEE;ROLE=REQ-PARTICIPANT;PARTSTAT=ACCEPTED;RSVP=TRUE;CN="Paul Lin
 coln":http://goldenlaneestate.org/profile/PALincoln
ATTENDEE;ROLE=REQ-PARTICIPANT;PARTSTAT=ACCEPTED;RSVP=TRUE;CN="Jonny Ha
 zell":http://goldenlaneestate.org/profile/JonnyHazell
ATTENDEE;ROLE=REQ-PARTICIPANT;PARTSTAT=TENTATIVE;RSVP=TRUE;CN="Patrici
 a O'Connor":http://goldenlaneestate.org/profile/PatriciaOConnor
END:VEVENT
END:VCALENDAR
