BEGIN:VCALENDAR
PRODID:NingEventWidget-v1
VERSION:2.0
METHOD:PUBLISH
BEGIN:VEVENT
UID:2323372:Event:179202
DTSTAMP:20260420T040254Z
SUMMARY:Patient Panel on Ovarian and Womb Cancer
DESCRIPTION:Join Healthwatch City of London and the North East London 
 (NEL) Cancer Alliance on Wednesday 3rd September, 12pm to 1:30pm at th
 e Golden Lane Community Centre to find out more about the symptoms, pr
 evention and treatment of ovarian and womb cancer.Register here: Pati
 ent Panel with NEL Cancer Alliance - Ovarian and Womb Cancer Tickets, 
 Wed, Sep 3, 2025 at 12:00 PM | Eventbriteor email us at info@healthwa
 tchcityoflondon.org.uk to register\n\nFor more information visit http
 ://goldenlaneestate.org/events/patient-panel-on-ovarian-and-womb-cance
 r
DTSTART:20250903T110000Z
DTEND:20250903T123000Z
CATEGORIES:patient, panel
LOCATION:Golden Lane Community Centre
WEBSITE:
URL:
CONTACT:
ORGANIZER:Healthwatch City of London
ATTACH;FMTTYPE="image/jpeg":
ATTENDEE;ROLE=REQ-PARTICIPANT;PARTSTAT=ACCEPTED;RSVP=TRUE;CN="Rachel C
 leave":http://goldenlaneestate.org/profile/RachelCleave
END:VEVENT
END:VCALENDAR
