BEGIN:VCALENDAR
PRODID:NingEventWidget-v1
VERSION:2.0
METHOD:PUBLISH
BEGIN:VEVENT
UID:2323372:Event:75887
DTSTAMP:20260421T145548Z
SUMMARY:Politics and conflict: when Charterhouse School moved to Godal
 ming
DESCRIPTION:In 1611 Thomas Sutton founded the almshouse and school for
  poor boys at the Charterhouse in London.  In 1872 the school moved o
 ut to splendid premises in Godalming. Find out the story behind that m
 ove at our latest online Lecture - presented by Charterhouse School ar
 chivist Catherine Smith. Book now on our What's On page (payment by do
 nation only).\n\nFor more information visit http://goldenlaneestate.or
 g/events/politics-and-conflict-when-charterhouse-school-moved-to-godal
 ming
DTSTART:20200730T180000Z
DTEND:20200730T190000Z
CATEGORIES:online, lecture
LOCATION:online
WEBSITE:http://www.thecharterhouse.org/visit-us/whats-on/
URL:http://www.thecharterhouse.org/visit-us/whats-on/
CONTACT:
ORGANIZER;CN="Charlotte Borger":http://goldenlaneestate.org/profile/Ch
 arlotteBorger
ATTACH;FMTTYPE="image/jpeg":https://storage.ning.com/topology/rest/1.0
 /file/get/6526718463?profile=original
ATTENDEE;ROLE=REQ-PARTICIPANT;PARTSTAT=ACCEPTED;RSVP=TRUE;CN="Charlott
 e Borger":http://goldenlaneestate.org/profile/CharlotteBorger
END:VEVENT
END:VCALENDAR
