BEGIN:VCALENDAR
PRODID:NingEventWidget-v1
VERSION:2.0
METHOD:PUBLISH
BEGIN:VEVENT
UID:2323372:Event:48267
DTSTAMP:20260423T211833Z
SUMMARY:Red, White and Blue: A story of Three Colours in Art
DESCRIPTION:City of London and Tate guide Alexandra Epps, will deliver
  this illustrated talk on the symbolism, significance and spirituality
  of colour throughout the history of art. Experience the power of the 
 red of the Tudors; the utopian white of Abstraction; the secret formul
 a of Klein blue and Mondrian’s dynamic combination of all three.\nNo
  need to book, just turn up\n\nFor more information visit http://golde
 nlaneestate.org/events/red-white-and-blue-a-story-of-three-colours-in-
 art
DTSTART:20160127T123000Z
DTEND:20160127T133000Z
CATEGORIES:free, lunchtime, talk
LOCATION:Barbican Library, Barbican Centre level 2
WEBSITE:
URL:
CONTACT:
ORGANIZER;CN="Helen Tremaine":http://goldenlaneestate.org/profile/Hele
 nTremaine
ATTACH;FMTTYPE="image/jpeg":http://storage.ning.com/topology/rest/1.0/
 file/get/2571576328?profile=original
ATTENDEE;ROLE=REQ-PARTICIPANT;PARTSTAT=ACCEPTED;RSVP=TRUE;CN="Helen Tr
 emaine":http://goldenlaneestate.org/profile/HelenTremaine
END:VEVENT
END:VCALENDAR
