BEGIN:VCALENDAR
PRODID:NingEventWidget-v1
VERSION:2.0
METHOD:PUBLISH
BEGIN:VEVENT
UID:2323372:Event:53164
DTSTAMP:20260420T053127Z
SUMMARY:Revealing the Charterhouse â€“ the making of a London Landmark
DESCRIPTION:Barbican Library\nTuesday 6th December\n12.30-1.30\nFree â
 €“ just turn up\nÂ \nÂ The Charterhouse is a local\narchitectural trea
 sure as well\nas home to a community of\nBrothers who benefit from the
  charity established by\nThomas Sutton early in the\nseventeenth centu
 ry\nJoin Brother Stephen McGhee for this illustrated talk on a\nhidden
  gem that has beenÂ \n\nFor more information visit http://goldenlanees
 tate.org/events/revealing-the-charterhouse-the-making-of-a-london-land
 mark
DTSTART:20161206T123000Z
DTEND:20161206T133000Z
CATEGORIES:free, lunchtime, talk, -, just, turn, up
LOCATION:Barbican Library, Barbican Centre level 2
WEBSITE:
URL:
CONTACT:
ORGANIZER;CN="Helen Tremaine":http://goldenlaneestate.org/profile/Hele
 nTremaine
ATTACH;FMTTYPE="image/jpeg":
ATTENDEE;ROLE=REQ-PARTICIPANT;PARTSTAT=ACCEPTED;RSVP=TRUE;CN="Helen Tr
 emaine":http://goldenlaneestate.org/profile/HelenTremaine
END:VEVENT
END:VCALENDAR
