BEGIN:VCALENDAR
PRODID:NingEventWidget-v1
VERSION:2.0
METHOD:PUBLISH
BEGIN:VEVENT
UID:2323372:Event:52003
DTSTAMP:20260419T155404Z
SUMMARY:Rosalind:A biography of Shakespeare's immortal heroine
DESCRIPTION:Angela Thirlwell will be interviewed by Prof Russ McDonald
  about her new book which explores the fictitious life and many after-
 lives of Shakespeare's most innovative heroine.\nEntrance Free but boo
 king advised : 02076380569\nbarbicanlib@cityoflondon.gov.uk\nPart of t
 he Shakespeare 400 celebration\n\n\nFor more information visit http://
 goldenlaneestate.org/events/rosalind-a-biography-of-shakespeare-s-immo
 rtal-heroine
DTSTART:20160608T113000Z
DTEND:20160608T123000Z
CATEGORIES:cultural
LOCATION:Barbican Library, 2nd Floor Barbican Centre
WEBSITE:http://www.cityoflondon.gov.uk/libraries
URL:http://www.cityoflondon.gov.uk/libraries
CONTACT:02076380569
ORGANIZER;CN="Geraldine Pote":http://goldenlaneestate.org/profile/Gera
 ldinePote
ATTACH;FMTTYPE="image/jpeg":
ATTENDEE;ROLE=REQ-PARTICIPANT;PARTSTAT=ACCEPTED;RSVP=TRUE;CN="Geraldin
 e Pote":http://goldenlaneestate.org/profile/GeraldinePote
END:VEVENT
END:VCALENDAR
