BEGIN:VCALENDAR
PRODID:NingEventWidget-v1
VERSION:2.0
METHOD:PUBLISH
BEGIN:VEVENT
UID:2323372:Event:44029
DTSTAMP:20260422T100308Z
SUMMARY:Second Hand Stories
DESCRIPTION:Every second-hand book has a story. Journalist, classics s
 cholar and Tatler Art Critic Josh Spero talks about what he discovered
  when he researched the previous owners of his second hand books. The 
 result is a set of astonishing personal and public stories from around
  the world, covering a century of triumphs, disasters and intimacies.\
 n\nFor more information visit http://goldenlaneestate.org/events/secon
 d-hand-stories
DTSTART:20150205T123000Z
DTEND:20150205T133000Z
CATEGORIES:lunch, time, talk-, free, -, just, turn, up
LOCATION:Barbican Library
WEBSITE:
URL:
CONTACT:0207 638 0569
ORGANIZER;CN="Helen Tremaine":http://goldenlaneestate.org/profile/Hele
 nTremaine
ATTACH;FMTTYPE="image/jpeg":http://storage.ning.com/topology/rest/1.0/
 file/get/2571574178?profile=original
ATTENDEE;ROLE=REQ-PARTICIPANT;PARTSTAT=ACCEPTED;RSVP=TRUE;CN="Helen Tr
 emaine":http://goldenlaneestate.org/profile/HelenTremaine
END:VEVENT
END:VCALENDAR
