BEGIN:VCALENDAR
PRODID:NingEventWidget-v1
VERSION:2.0
METHOD:PUBLISH
BEGIN:VEVENT
UID:2323372:Event:26882
DTSTAMP:20260424T191701Z
SUMMARY:Sharing, timebanking and Christmas Crafts Community Cafe
DESCRIPTION:With Christmas just around the corner and the season of go
 odwill upon us, the second Golden Lane Community Cafe will be themed a
 round sharing and specifically the sharing of time and skills that goe
 s with timebanking.\n\nSo the residents behind the Community Cafe will
  be sharing their baking skills again with some delicious cakes, altho
 ugh if anyone else wants to make and share something that would be ver
 y welcome. I will be sharing my very limited arts and crafts skills to
  show you how you can turn 'waste materials' into Christmas presents a
 nd decorations, and we hope that you will come and share your time wit
 h us. \n\nAt the community cafe there will be information available o
 n the St Luke's Timebank for anyone interested. St Luke's is a very lo
 cal, very well run timebank that enables people to do someone a favour
  and receive some help with something in return. Come to the cafe on t
 he 17th to find out more!\n\nFor more information visit http://goldenl
 aneestate.org/events/sharing-timebanking-and-christmas-crafts-communit
 y-cafe
DTSTART:20111217T110000Z
DTEND:20111217T130000Z
CATEGORIES:community, event
LOCATION:Golden Lane Community Hall
WEBSITE:
URL:
CONTACT:07810 747 193
ORGANIZER;CN="Jonny Hazell":http://goldenlaneestate.org/profile/JonnyH
 azell
ATTACH;FMTTYPE="image/jpeg":
ATTENDEE;ROLE=REQ-PARTICIPANT;PARTSTAT=ACCEPTED;RSVP=TRUE;CN="Jonny Ha
 zell":http://goldenlaneestate.org/profile/JonnyHazell
END:VEVENT
END:VCALENDAR
