BEGIN:VCALENDAR
PRODID:NingEventWidget-v1
VERSION:2.0
METHOD:PUBLISH
BEGIN:VEVENT
UID:2323372:Event:179684
DTSTAMP:20260425T235135Z
SUMMARY:The Book Fair at St Giles’ church
DESCRIPTION:Eclectic mix of 2,000+ quality books.\nIt's back, The Book
  Fair at St Giles’ church Barbican. Running for over 40 years.\nOpen
  daily until Sunday 30th November 11am to 6.30pm.\nIMG-20251114-WA0007
 .jpg\n\nFor more information visit http://goldenlaneestate.org/events/
 the-book-fair-at-st-giles-church
DTSTART:20251119T110000Z
DTEND:20251130T183000Z
CATEGORIES:charity
LOCATION:St Giles Church
WEBSITE:
URL:
CONTACT:
ORGANIZER:Book Fair Volunteers
ATTACH;FMTTYPE="image/jpeg":https://storage.ning.com/topology/rest/1.0
 /file/get/30998728495?profile=original
ATTENDEE;ROLE=REQ-PARTICIPANT;PARTSTAT=ACCEPTED;RSVP=TRUE;CN=Shirley:h
 ttp://goldenlaneestate.org/profile/Shirley
END:VEVENT
END:VCALENDAR
