BEGIN:VCALENDAR
PRODID:NingEventWidget-v1
VERSION:2.0
METHOD:PUBLISH
BEGIN:VEVENT
UID:2323372:Event:53891
DTSTAMP:20260425T130310Z
SUMMARY:Writing Workshop - Free -
DESCRIPTION:Boost your confidence -\nand your word-count!\nGreen Ink W
 riters’ Gym is for everyone who wants to write. Writers of all genre
 s and levels of experience will develop new material in a positive, su
 pportive atmosphere. Informal, focused group sessions, combining inspi
 ring exercises with quality time and space to write. \n \nRachel Kn
 ightley is a freelance writer and teacher of creative writing, speech 
 and drama. She is currently taking a PhD in creative writing and, as G
 reen Ink Theatre, runs literary and theatre-based fundraising events f
 or Macmillan Cancer Support.\n \nFREE but booking essential via the 
 library.\nT 0207 638 0569\nE barbicanlib@cityoflondon.gov.uk\n \n\nFo
 r more information visit http://goldenlaneestate.org/events/writing-wo
 rkshop-free
DTSTART:20170128T140000Z
DTEND:20170128T153000Z
CATEGORIES:free, -, but, booking, essential
LOCATION:Barbican Library
WEBSITE:
URL:
CONTACT:
ORGANIZER;CN="Helen Tremaine":http://goldenlaneestate.org/profile/Hele
 nTremaine
ATTACH;FMTTYPE="image/jpeg":
ATTENDEE;ROLE=REQ-PARTICIPANT;PARTSTAT=ACCEPTED;RSVP=TRUE;CN="Helen Tr
 emaine":http://goldenlaneestate.org/profile/HelenTremaine
END:VEVENT
END:VCALENDAR
