BEGIN:VCALENDAR
PRODID:NingEventWidget-v1
VERSION:2.0
METHOD:PUBLISH
BEGIN:VEVENT
UID:2323372:Event:54299
DTSTAMP:20260425T143142Z
SUMMARY:Yoga
DESCRIPTION:Golden Yoga - Free classesWe meet every Thursday at 7.30-8
 .45pm downstairs in the community centre. The class is a general clas
 s, suitable for both absolute beginners and those with some experienc
 e of yoga. The sessions are free and there is a donation box for Cure
  Parkinson’s Trust for you to make a contribution if you like.I’ve
  been practicing yoga for over twenty-five years and am a fully quali
 fied and insured teacher since 2003.  I draw on range of yoga styles
 for my own practice and when I teach, including Sivananda, Viniyoga a
 nd“yoga flow”.For further information about me and/or the class, d
 on’t hesitate to contact me on ordersceri@gmail.com or come along t
 o a session and try it out!Ceri\n\nFor more information visit http://g
 oldenlaneestate.org/events/yoga
DTSTART:20170212T180000Z
DTEND:20170630T180000Z
CATEGORIES:yoga
LOCATION:Community Centre Golden Lane
WEBSITE:
URL:
CONTACT:
ORGANIZER;CN="Ceri Higgins":http://goldenlaneestate.org/profile/Ceri
ATTACH;FMTTYPE="image/jpeg":http://storage.ning.com/topology/rest/1.0/
 file/get/2571586011?profile=original
ATTENDEE;ROLE=REQ-PARTICIPANT;PARTSTAT=ACCEPTED;RSVP=TRUE;CN="Ceri Hig
 gins":http://goldenlaneestate.org/profile/Ceri
ATTENDEE;ROLE=REQ-PARTICIPANT;PARTSTAT=TENTATIVE;RSVP=TRUE;CN=Jax:http
 ://goldenlaneestate.org/profile/jacqui
END:VEVENT
END:VCALENDAR
