BEGIN:VCALENDAR
PRODID:NingEventWidget-v1
VERSION:2.0
METHOD:PUBLISH
BEGIN:VEVENT
UID:2323372:Event:27935
DTSTAMP:20260424T191932Z
SUMMARY:Youth Conference - 16th February for young people aged 14-19
DESCRIPTION:The City of London is deciding what services it wants to b
 uy for young people and wants their ideas and views to help the.  If 
 you are aged 14-19 and live in the City of London this is your chance 
 to have your say.\n \nThe conference is taking place at the Livery Ha
 ll, Guildhall, Basinghall Street, EC2V 7HH from 10.30 to 3.30.\n \nRe
 gister before 11am to be in with a chance to win £50 in HMV vouchers.
 \n \nFree event, Free food, Free goodies\n \nNo need to pre-book; ju
 st come along. Mpre info Sharon on sharon.cohen@cityoflondon.gov.uk or
  07753 578 020\n\nFor more information visit http://goldenlaneestate.o
 rg/events/youth-conference-16th-february-for-young-people-aged-14-19
DTSTART:20120216T103000Z
DTEND:20120216T153000Z
CATEGORIES:youth, conference
LOCATION:Livery Hall, Guildhall, Basinghall Street, EC2V 7HH
WEBSITE:
URL:
CONTACT:07753 578 020
ORGANIZER;CN="Sharon Cohen":http://goldenlaneestate.org/profile/Sharon
 Cohen
ATTACH;FMTTYPE="image/jpeg":
ATTENDEE;ROLE=REQ-PARTICIPANT;PARTSTAT=ACCEPTED;RSVP=TRUE;CN="Sharon C
 ohen":http://goldenlaneestate.org/profile/SharonCohen
END:VEVENT
END:VCALENDAR
