BEGIN:VCALENDAR
PRODID:NingEventWidget-v1
VERSION:2.0
METHOD:PUBLISH
BEGIN:VEVENT
UID:2323372:Event:179977
DTSTAMP:20260422T001431Z
SUMMARY:Zoom session: Got caring responsibilites?
DESCRIPTION:Are you helping another resident/family? Do you have carin
 g responsibilities? \n6th April 11-12pm via Zoom: Meet other resident
 s sharing similar experiences. Feel free to listen, ask questions or 
 pick up tips.\nCity Carers Community started in 2020 by residents. Th
 is is our 6th year continuing to help fill the gap in sharing local an
 d national knowledge. \nZoom details or questions email:CityCarersCom
 munity@gmail.com\n\nFor more information visit http://goldenlaneestate
 .org/events/zoom-session-got-caring-responsibilites
DTSTART:20260406T100000Z
DTEND:20260406T110000Z
CATEGORIES:community
LOCATION:Zoom
WEBSITE:
URL:
CONTACT:
ORGANIZER:Shirley (City Carers Community)
ATTACH;FMTTYPE="image/jpeg":
ATTENDEE;ROLE=REQ-PARTICIPANT;PARTSTAT=ACCEPTED;RSVP=TRUE;CN=Shirley:h
 ttp://goldenlaneestate.org/profile/Shirley
END:VEVENT
END:VCALENDAR
